BEGIN:VCALENDAR
VERSION:2.0
PRODID:spatie/icalendar-generator
DESCRIPTION:Events from St. John Lutheran
X-WR-CALDESC:Events from St. John Lutheran
REFRESH-INTERVAL;VALUE=DURATION:PT1440M
X-PUBLISHED-TTL:PT1440M
BEGIN:VTIMEZONE
TZID:America/New_York
BEGIN:DAYLIGHT
DTSTART:20230312T020000Z
TZOFFSETFROM:-0500
TZOFFSETTO:-0400
END:DAYLIGHT
BEGIN:STANDARD
DTSTART:20231105T020000Z
TZOFFSETFROM:-0400
TZOFFSETTO:-0500
END:STANDARD
BEGIN:DAYLIGHT
DTSTART:20240310T020000Z
TZOFFSETFROM:-0500
TZOFFSETTO:-0400
END:DAYLIGHT
END:VTIMEZONE
BEGIN:VTIMEZONE
TZID:UTC
BEGIN:STANDARD
DTSTART:20250724T055743Z
TZOFFSETFROM:+0000
TZOFFSETTO:+0000
END:STANDARD
END:VTIMEZONE
BEGIN:VEVENT
UID:51-4
DTSTAMP:20260420T055743Z
SUMMARY:Food Pantry Support
LOCATION:Faith in Action 798 Hillman Highway NE  Abingdon VA 24210
ORGANIZER;CN=stjohnabingdon admin:MAILTO:tech@stjohnabingdon.org
DTSTART;TZID=America/New_York:20231003T160000
DTEND;TZID=America/New_York:20231003T180000
X-ALT-DESC;FMTTYPE=TEXT/HTML:
CATEGORIES:Community Service
URL;VALUE=URI:https://stjohnabingdon.org/mc-events/food-pantry-support-8/
METHOD:PUBLISH
END:VEVENT
END:VCALENDAR